BEGIN:VCALENDAR
VERSION:2.0
PRODID:-//Library Market//iCal Export//EN
BEGIN:VEVENT
SUMMARY:Summer Reading Kick-off Party
UID:24092
DTSTAMP:20260420T120800Z
DTSTART:20260627T160000Z
DTEND:20260627T200000Z
LOCATION:Mount Laurel Library, 100 Walt Whitman Avenue, Mount Laurel, NJ 0
 8054, United States
ROOM: Meeting Room 1 &amp; 2 Combined
DESCRIPTION:Celebrate the start of summer reading! Activities and events t
 o be determined.Sign up for summer reading in the lobby or on our website!
 All ages welcome. No registration required. 
URL:https://mountlaurel.librarycalendar.com/event/summer-reading-party-hol
 d-24092
END:VEVENT
END:VCALENDAR
