BEGIN:VCALENDAR
VERSION:2.0
PRODID:-//Library Market//iCal Export//EN
BEGIN:VEVENT
SUMMARY:Holiday Concert: The Majestic Brass
UID:27271
DTSTAMP:20260424T054800Z
DTSTART:20261213T190000Z
DTEND:20261213T200000Z
LOCATION:Mount Laurel Library, 100 Walt Whitman Avenue, Mount Laurel, NJ 0
 8054, United States
ROOM: Meeting Room 1 &amp; 2 Combined
DESCRIPTION:The Majestic Brass will be performing variety holiday tunes fo
 r your listening pleasure. The Majestic Brass is a versatile quintet featu
 ring talented musicians from the Philharmonic of Southern Jersey. With two
  trumpets, a French horn, trombone, and tuba, the group delivers a polishe
 d sound that spans a variety of genres: holiday, classical, jazz, show tun
 es, movie themes, and other popular music. No registration required.
URL:https://mountlaurel.librarycalendar.com/event/concert-27271
END:VEVENT
END:VCALENDAR
