BEGIN:VCALENDAR
VERSION:2.0
PRODID:-//Library Market//iCal Export//EN
BEGIN:VEVENT
SUMMARY:Scrabble Club
UID:28006
DTSTAMP:20260420T100600Z
DTSTART:20260908T220000Z
DTEND:20260909T000000Z
LOCATION:Mount Laurel Library, 100 Walt Whitman Avenue, Mount Laurel, NJ 0
 8054, United States
ROOM: Meeting Room 1
DESCRIPTION:Join us for an enjoyable and engaging evening of Scrabble, per
 fect for word game enthusiasts of all skill levels. Not only is Scrabble f
 un, but research has shown that it keeps the brain stimulated, expands voc
 abulary, and makes people happy. Participants will play in groups of up to
  four people. Scrabble boards and all necessary materials will be provided
 . Bring your friends or make new connections while enjoying a friendly gam
 e of Scrabble!  No registration required.  
URL:https://mountlaurel.librarycalendar.com/event/scrabble-club-28006
END:VEVENT
END:VCALENDAR
