BEGIN:VCALENDAR
VERSION:2.0
PRODID:-//Library Market//iCal Export//EN
BEGIN:VEVENT
SUMMARY:Golden Eagle Community Band
UID:29172
DTSTAMP:20260420T052500Z
DTSTART:20260709T223000Z
DTEND:20260710T000000Z
LOCATION:Mount Laurel Community Center, 100 Mt Laurel Rd., MOUNT LAUREL, N
 J 08054, United States
ROOM: Golden Eagle Community Band
DESCRIPTION:The Golden Eagle Community band presents an evening of music a
 t the Mount Laurel Community Center, right across from the library. Forme
 d in 1972, the Golden Eagle Community Band of Mount Holly, NJ is the premi
 er all-volunteer community band in South Jersey. The band performs a wide 
 variety of musical styles, including Big Band, contemporary jazz, pop and 
 rock through the decades, songs from the stage and screen, classical and p
 atriotic and Americana. No registration is required.
URL:https://mountlaurel.librarycalendar.com/event/community-center-concert
 -29172
END:VEVENT
END:VCALENDAR
