BEGIN:VCALENDAR
VERSION:2.0
PRODID:-//Library Market//iCal Export//EN
BEGIN:VEVENT
SUMMARY:Mount Laurel Office of Emergency Management Information Session
UID:32442
DTSTAMP:20260420T160400Z
DTSTART:20260504T170000Z
DTEND:20260504T180000Z
LOCATION:Mount Laurel Library, 100 Walt Whitman Avenue, Mount Laurel, NJ 0
 8054, United States
ROOM: Meeting Room 1 &amp; 2 Combined
DESCRIPTION:Join the Mount Laurel Office of Emergency Management for a fre
 e community presentationLearn:What happens behind the scenes during emerge
 nciesHow Mount Laurel prepares and respondsSimple steps to protect your ho
 useholdHow to stay informed during critical eventsOpportunities to get inv
 olved with the Community Emergency Response Team (CERT)
URL:https://mountlaurel.librarycalendar.com/event/oem-information-session-
 32442
END:VEVENT
END:VCALENDAR
