BEGIN:VCALENDAR
VERSION:2.0
PRODID:-//Library Market//iCal Export//EN
BEGIN:VEVENT
SUMMARY:Redwatch Robotics Camp
UID:32722
DTSTAMP:20260420T032700Z
DTSTART:20260715T210000Z
DTEND:20260715T223000Z
LOCATION:Mount Laurel Library, 100 Walt Whitman Avenue, Mount Laurel, NJ 0
 8054, United States
ROOM: Meeting Room 1 &amp; 2 Combined
DESCRIPTION:Lenape High School’s Red Watch Robotics (FRC Team 2720), is 
 a proud competitor in the worldwide FIRST Robotics Competition. This summ
 er, the Red Watch Robotics team is offering a special program that consist
 s of multiple mentally stimulating, hands-on design challenges, activities
  that introduce fundamental robotics and engineering skills through projec
 ts such as rubber band cars, introductory CAD and online design, and colla
 borative problem-solving, all guided by a large group of experienced high 
 school robotics students serving as mentors.Join us for this 6 week evenin
 g robotics camp that meets 2 times per week for students who are currently
  in or will be enrolled in grades 5-8 this September (2026). Registration 
 is required. Registration for 1 event session will register you for the en
 tire run of the series. Please only register if you plan to attend all the
  sessions.
URL:https://mountlaurel.librarycalendar.com/event/redwatch-robotics-camp-3
 2722
END:VEVENT
END:VCALENDAR
