BEGIN:VCALENDAR
VERSION:2.0
PRODID:-//Library Market//iCal Export//EN
BEGIN:VEVENT
SUMMARY:NextGen Gardeners - Grades 2-4
UID:33079
DTSTAMP:20260420T120800Z
DTSTART:20260516T140000Z
DTEND:20260516T153000Z
LOCATION:Mount Laurel Library, 100 Walt Whitman Avenue, Mount Laurel, NJ 0
 8054, United States
ROOM: Meeting Room 1 &amp; 2 Combined
DESCRIPTION:Students will learn the importance of pollinators to our ecosy
 stem and how they can protect them. Students will make a terracotta saucer
  &quot;Pollinator Puddler&quot; station to provide water and nutrients to 
 their own garden pollinators.Students will also make their own seed paper 
 to cut into desired shapes to plant in their home garden or container.This
  session is designed specifically for grades 2-4. Registration is required
 .
URL:https://mountlaurel.librarycalendar.com/event/nextgen-gardeners-33079
END:VEVENT
END:VCALENDAR
