BEGIN:VCALENDAR
VERSION:2.0
PRODID:-//Library Market//iCal Export//EN
BEGIN:VEVENT
SUMMARY:Storytime: Ages 2-5
UID:33179
DTSTAMP:20260421T063500Z
DTSTART:20260701T143000Z
DTEND:20260701T153000Z
LOCATION:Mount Laurel Library, 100 Walt Whitman Avenue, Mount Laurel, NJ 0
 8054, United States
ROOM: Meeting Room 1 &amp; 2 Combined
DESCRIPTION:
URL:https://mountlaurel.librarycalendar.com/event/storytime-ages-2-5-33179
END:VEVENT
END:VCALENDAR
