BEGIN:VCALENDAR
VERSION:2.0
PRODID:-//Library Market//iCal Export//EN
BEGIN:VEVENT
SUMMARY:Comic Book Giveaway!
UID:33639
DTSTAMP:20260425T232000Z
DTSTART:20260502T133000Z
DTEND:20260502T160000Z
LOCATION:Mount Laurel Library, 100 Walt Whitman Avenue, Mount Laurel, NJ 0
 8054, United States
ROOM: Lobby
DESCRIPTION:Comic enthusiasts take note, in honor of Free Comic Book Day, 
 we will be hosting a comic book giveaway! Limit 2 per customer, while supp
 lies last.
URL:https://mountlaurel.librarycalendar.com/event/comic-book-giveaway-3363
 9
END:VEVENT
END:VCALENDAR
