BEGIN:VCALENDAR
VERSION:2.0
PRODID:-//Library Market//iCal Export//EN
BEGIN:VEVENT
SUMMARY:Dinosaurs Rock
UID:34669
DTSTAMP:20260420T032700Z
DTSTART:20260807T173000Z
DTEND:20260807T183000Z
LOCATION:Mount Laurel Library, 100 Walt Whitman Avenue, Mount Laurel, NJ 0
 8054, United States
ROOM: Meeting Room 1 &amp; 2 Combined
DESCRIPTION:Join us for a special presentation of dinosaurs and fossils wi
 th Dinosaurs Rock! Witness the magic of learning through hands-on activiti
 es. Students get up close and personal with genuine fossils, sparking thei
 r curiosity and fostering a love for science. Registration Required.
URL:https://mountlaurel.librarycalendar.com/event/hold-dinosaurs-rock-3466
 9
END:VEVENT
END:VCALENDAR
