BEGIN:VCALENDAR
VERSION:2.0
PRODID:-//Library Market//iCal Export//EN
BEGIN:VEVENT
SUMMARY:STEM Workshop - Landing a Mars Probe
UID:34978
DTSTAMP:20260419T233900Z
DTSTART:20260714T233000Z
DTEND:20260715T003000Z
LOCATION:Mount Laurel Library, 100 Walt Whitman Avenue, Mount Laurel, NJ 0
 8054, United States
ROOM: Craft Room
DESCRIPTION:Students will work to build a &quot;probe&quot; that &quot;lan
 ds&quot; softly on the ground using certain materials provided. They will 
 learn about the design process to create their probes well as some concept
 s about space. This workshop is designed for middle school students (eithe
 r current middle schoolers or students starting middle school in September
  of 26). Registration required.
URL:https://mountlaurel.librarycalendar.com/event/stem-workshop-landing-ma
 rs-probe-34978
END:VEVENT
END:VCALENDAR
