BEGIN:VCALENDAR
VERSION:2.0
PRODID:-//Library Market//iCal Export//EN
BEGIN:VEVENT
SUMMARY:STEM Workshop - Invisible Ink Lab
UID:34979
DTSTAMP:20260420T032700Z
DTSTART:20260707T233000Z
DTEND:20260708T003000Z
LOCATION:Mount Laurel Library, 100 Walt Whitman Avenue, Mount Laurel, NJ 0
 8054, United States
ROOM: Craft Room
DESCRIPTION:In this workshop, students will learn basic chemistry reaction
 s to understand how to make their own invisible ink. They will make and re
 veal a hidden message using the invisible ink they created and learn how t
 o uncover their messages. This workshop is designed for middle school stud
 ents (either current middle schoolers or students starting middle school i
 n September of 26). Registration required.
URL:https://mountlaurel.librarycalendar.com/event/stem-workshop-invisible-
 ink-lab-34979
END:VEVENT
END:VCALENDAR
