BEGIN:VCALENDAR
VERSION:2.0
PRODID:-//Library Market//iCal Export//EN
BEGIN:VEVENT
SUMMARY:STEM Workshop - Bridge Building Competition
UID:34980
DTSTAMP:20260420T032700Z
DTSTART:20260630T233000Z
DTEND:20260701T003000Z
LOCATION:Mount Laurel Library, 100 Walt Whitman Avenue, Mount Laurel, NJ 0
 8054, United States
ROOM: Craft Room
DESCRIPTION:Students will be competing against each other to see who can c
 reate the strongest bridge without it collapsing. The students will learn 
 the basic engineering principles and apply them to their creation while ha
 ving fun! This workshop is designed for middle school students (either cur
 rent middle schoolers or students starting middle school in September of 2
 6). Registration required.
URL:https://mountlaurel.librarycalendar.com/event/stem-workshop-bridge-bui
 lding-competition-34980
END:VEVENT
END:VCALENDAR
