BEGIN:VCALENDAR
VERSION:2.0
PRODID:-//Library Market//iCal Export//EN
BEGIN:VEVENT
SUMMARY:Game Day!
UID:34999
DTSTAMP:20260420T032700Z
DTSTART:20260707T170000Z
DTEND:20260707T190000Z
LOCATION:Mount Laurel Library, 100 Walt Whitman Avenue, Mount Laurel, NJ 0
 8054, United States
ROOM: Craft Room
DESCRIPTION:Get out of the heat and get into the LIBRARY, where we will ha
 ve an assortment of classic board and card games available to play in the 
 craft room. Bring a friend or show up on your own and play with others!Th
 is open-house style event is appropriate for teens, tweens, kids, and thei
 r caregivers.Doors are open from 1-3 PM
URL:https://mountlaurel.librarycalendar.com/event/game-day-34999
END:VEVENT
END:VCALENDAR
