BEGIN:VCALENDAR
VERSION:2.0
PRODID:-//Library Market//iCal Export//EN
BEGIN:VEVENT
SUMMARY:100 Domino Challenge
UID:35038
DTSTAMP:20260421T110900Z
DTSTART:20260620T140000Z
DTEND:20260620T160000Z
LOCATION:Mount Laurel Library, 100 Walt Whitman Avenue, Mount Laurel, NJ 0
 8054, United States
ROOM: Meeting Room 1 &amp; 2 Combined
DESCRIPTION:Do you think you have the skills to create a really amazing do
 mino fall using only 100 dominoes? It sounds simple, but it is not as easy
  as you think. Come put all your skills to the test and see if you can out
  build the other contestants. Please register so a kit of dominoes is held
  for you.
URL:https://mountlaurel.librarycalendar.com/event/100-domino-challenge-350
 38
END:VEVENT
END:VCALENDAR
