BEGIN:VCALENDAR
VERSION:2.0
PRODID:-//Library Market//iCal Export//EN
BEGIN:VEVENT
SUMMARY:Mosaic Early Learning -Head Start Program Information Table
UID:35360
DTSTAMP:20260420T120800Z
DTSTART:20260709T140000Z
DTEND:20260709T153000Z
LOCATION:Mount Laurel Library, 100 Walt Whitman Avenue, Mount Laurel, NJ 0
 8054, United States
ROOM: In Library
DESCRIPTION:Please join us in the lobby from 10-11:30AM for a Mosaic Early
  Learning -Head Start Program Informational table.
URL:https://mountlaurel.librarycalendar.com/event/head-start-program-infor
 mation-table-35360
END:VEVENT
END:VCALENDAR
