BEGIN:VCALENDAR
VERSION:2.0
PRODID:-//Library Market//iCal Export//EN
BEGIN:VEVENT
SUMMARY:Chinese Bilingual Storytime
UID:35380
DTSTAMP:20260420T032700Z
DTSTART:20260523T200000Z
DTEND:20260523T203000Z
LOCATION:Mount Laurel Library, 100 Walt Whitman Avenue, Mount Laurel, NJ 0
 8054, United States
ROOM: Craft Room
DESCRIPTION:Please join us for a special Chinese, bilingual Storytime. Thi
 s event is intended for children ages 3-6 and their families. Please regis
 ter the children attending.
URL:https://mountlaurel.librarycalendar.com/event/bilingual-storytime-3538
 0
END:VEVENT
END:VCALENDAR
