BEGIN:VCALENDAR
VERSION:2.0
PRODID:-//Library Market//iCal Export//EN
BEGIN:VEVENT
SUMMARY:Tots Art Time
UID:35476
DTSTAMP:20260420T032700Z
DTSTART:20260806T143000Z
DTEND:20260806T151500Z
LOCATION:Mount Laurel Library, 100 Walt Whitman Avenue, Mount Laurel, NJ 0
 8054, United States
ROOM: Craft Room
DESCRIPTION:An art class for the little ones to enjoy with parents and car
 egivers. Designed for ages 18 months to 3 years old. Registration with a c
 urrent Mount Laurel Library card is required. 
URL:https://mountlaurel.librarycalendar.com/event/tots-art-time-35476
END:VEVENT
END:VCALENDAR
