BEGIN:VCALENDAR
VERSION:2.0
PRODID:-//Library Market//iCal Export//EN
BEGIN:VEVENT
SUMMARY:Art Time
UID:35487
DTSTAMP:20260420T120800Z
DTSTART:20260809T180000Z
DTEND:20260809T184500Z
LOCATION:Mount Laurel Library, 100 Walt Whitman Avenue, Mount Laurel, NJ 0
 8054, United States
ROOM: Craft Room
DESCRIPTION:
URL:https://mountlaurel.librarycalendar.com/event/art-time-35487
END:VEVENT
END:VCALENDAR
