BEGIN:VCALENDAR
VERSION:2.0
PRODID:-//Library Market//iCal Export//EN
BEGIN:VEVENT
SUMMARY:Copy of Kids Art Workshop
UID:35541
DTSTAMP:20260422T130500Z
DTSTART:20261215T210000Z
DTEND:20261215T220000Z
LOCATION:Mount Laurel Library, 100 Walt Whitman Avenue, Mount Laurel, NJ 0
 8054, United States
ROOM: Craft Room
DESCRIPTION:Explore art with Ms. Susan, who will deliver an expert lesson 
 followed by a hands-on experience. This program is sure to be as entertain
 ing as it is educational!This program is for artists aged 8-12
URL:https://mountlaurel.librarycalendar.com/event/copy-kids-art-workshop-3
 5541
END:VEVENT
END:VCALENDAR
